BEGIN:VCALENDAR
VERSION:2.0
PRODID:-//DHR - Virginia Department of Historic Resources - ECPv5.5.0.1//NONSGML v1.0//EN
CALSCALE:GREGORIAN
METHOD:PUBLISH
X-WR-CALNAME:DHR - Virginia Department of Historic Resources
X-ORIGINAL-URL:https://www.dhr.virginia.gov
X-WR-CALDESC:Events for DHR - Virginia Department of Historic Resources
BEGIN:VTIMEZONE
TZID:America/New_York
BEGIN:DAYLIGHT
TZOFFSETFROM:-0500
TZOFFSETTO:-0400
TZNAME:EDT
DTSTART:20210314T070000
END:DAYLIGHT
BEGIN:STANDARD
TZOFFSETFROM:-0400
TZOFFSETTO:-0500
TZNAME:EST
DTSTART:20211107T060000
END:STANDARD
END:VTIMEZONE
BEGIN:VEVENT
DTSTART;TZID=America/New_York:20210513T190000
DTEND;TZID=America/New_York:20210513T210000
DTSTAMP:20210422T135521
CREATED:20210419T150402Z
LAST-MODIFIED:20210419T150402Z
UID:39974-1620932400-1620939600@www.dhr.virginia.gov
SUMMARY:Public Meeting for Proposed Colonial Beach Historic District
DESCRIPTION:A virtual public hearing for the proposed Colonial Beach Historic District in Westmoreland Co. begins today at 7 p.m. \nInstructions for attending the online meeting: \n\nJoin as an attendee: https://covaconf.webex.com/covaconf/onstage/g.php?MTID=e1b91fac821cd728b115c64c66301459b\n\nEvent password: VA1607\n\n\nJoin the audio conference only:\n\nTo receive a call back\, provide your phone number when you join the event\, or call the number below and enter the access code (185 108 9080).\n+1-517-466-2023 US Toll\n+1-866-692-4530 US Toll Free\nGlobal call-in numbers | Toll-free dialing restrictions\n\n\nJoin from a video system or application:\n\nDial 1781916957@covaconf.webex.com\nYou can also dial 173.243.2.68 and enter your meeting number: 185 108 9080.
URL:https://www.dhr.virginia.gov/event/public-meeting-for-proposed-colonial-beach-historic-district/
END:VEVENT
END:VCALENDAR